Workbook
Name CodeList: #REF!
Name costs: [0]!costs
Name CTU_Units: #REF!
Name fluidgas: [0]!fluidgas
Name macro1: [0]!costs
Name macro2: [0]!fluidgas
Name macro3: [0]!personnel
Name macro4: [0]!pressure
Name macro5: [0]!treatment
Name macro6: [0]!volume
Name personnel: [0]!personnel
Name pressure: [0]!pressure
Name savefile: [0]!savefile
Name Stations: #REF!
Name treatment: [0]!treatment
Name volume: [0]!volume

Sheet Start Page
D1: Start Page | L1: #VALUE!
D4: Start Page
D5: Date: | G5: =TODAY() -> 46218
D7: Customer | G7: Cenovus Energy Inc
D8: UWI | G8: 102/15-07-077-04W4/00
D9: Surf | G9: 11-12-077-05W4
G11: Days | K11: Nights
D12: Company Rep | G12: Scott King | K12: Scott King
D13: Customer Ph # | G13: 709-763-5114 | K13: 709-763-5114
D15: CTU | G15: 1200
D16: PUMP | G16: 5002
D17: Support | G17: 403
D18: N2
D19: Picker
G21: Days | K21: Nights
D22: Supervisor | G22: Mitchell Blomgren | K22: Tyson Orr
D23: Lead op | G23: Nevada Mohn | K23: Rocky Corigal
D24: Op | G24: Jason Corbeil
D25: Op
D26: Fluid | G26: Byron Trottier
D27: N2
D28: Picker op
D31: Job Scope | G31: Ranging
D32: Ticket Number
D33: Field
D34: Supervisor Ph # | G34: 403-352-1688 | H34: 6969 | K34: 780-214-2175
D35: Muster #1 | G35: Lease entrance
D36: Muster #2 | G36: Shack

Sheet Shift Report 
D1: Shift Report | J1: #VALUE!
D4: Operation Summary
D5: Shift | J5: Date | M5: Unit
D6: Days | F6: TRUE | G6: Nights | I6: FALSE | J6: ='Start Page'!G5 -> 46218 | M6: ='Start Page'!G15 -> 1200
D7: Field | J7: Coil Temperature ℃
D8: ='Start Page'!G33 -> 0 | J8: N/A
D9: Coil Depth | J9: ROP m/hr
D10: 0 | J10: 26 m/hr
D11: Pump Rate
D12: Coil L/min | J12: Back Side L/min
D13: 0 | J13: 0
D14: Fluid
D15: Total m³ Pumped During Shift | J15: Fluid at Surface m³
D16: 0 | J16: 40
D17: Hot Spot in Hole (if observed)
D18: Depth | J18: Temp ℃
D20: Equipment Issues Overcome During Shift
D21: Hydraulic Generator
D27: N₂ Purge Requierd | J27: EST Purge Date
D28: Yes | F28: TRUE | G28: No | I28: FALSE | J28: 2-3 Days
D29: Last Stump Test Date | J29: Last BOP Drill
D30: 46180 | J30: 46181
D31: Additonal Notes
D32: Rigged in 1016 today, should be all ready to go for crew when they get here. Installed BHA, currently on surface waiting on drilling rig, should be running in around crew change. Equipment topped up, everything running well.

Sheet Treatment Report Data
A1: Tips: Use "CTRL + Shift + ;" To Enter Current Time | P1: When deleting time entries, only delete the time from Line 1 and all of column 'C'
A3: Coil Tubing Treatment Report
A6: Customer | F6: Date | I6: ='Start Page'!G5 -> 46218 | M6: Crews
A7: ='Start Page'!G7 -> Cenovus Energy Inc | F7: Surface | I7: ='Start Page'!G9 -> 11-12-077-05W4 | M7: Position | O7: Days | R7: Nights
F8: UWI | I8: ='Start Page'!G8 -> 102/15-07-077-04W4/00 | M8: Supervisor | O8: ='Start Page'!G22 -> Mitchell Blomgren | R8: ='Start Page'!K22 -> Tyson Orr | U8: Ticket #
F9: OSR Days | I9: ='Start Page'!G12 -> Scott King | M9: Operator | O9: ='Start Page'!G23 -> Nevada Mohn | R9: ='Start Page'!K23 -> Rocky Corigal | U9: ='Start Page'!G32 -> 0
F10: OSR Nights | I10: ='Start Page'!H12 -> 0 | M10: Operator | O10: ='Start Page'!G24 -> Jason Corbeil | R10: ='Start Page'!K24 -> 0
A11: WELL INFO | F11: Equipment | G11: Equipment | M11: Operator | O11: ='Start Page'!G25 -> 0 | R11: ='Start Page'!K25 -> 0 | U11: Job Scope
A12: KB | B12: TD | C12: TVD | D12: ICP | E12: TYPE | G12: CTU | H12: TP | I12: N2 | J12: Support | L12: Picker | M12: Fluid | O12: ='Start Page'!G26 -> Byron Trottier | R12: ='Start Page'!#REF! -> #REF! | U12: ='Start Page'!G31 -> Ranging
G13: ='Start Page'!G15 -> 1200 | H13: ='Start Page'!G16 -> 5002 | I13: ='Start Page'!G18 -> 0 | J13: ='Start Page'!G17 -> 403 | L13: ='Start Page'!G19 -> 0 | M13: N2 | O13: ='Start Page'!G27 -> 0 | R13: ='Start Page'!K26 -> 0
A14: SITP | C14: SICP | E14: H₂S | G14: KB Diff | M14: Field Supervisor
A16: HP | C16: FP
A18: Treatment Report Data
A19: Event | B19: Hours | D19: CT Depth | E19: CT Weight | F19: Pressure | H19: CT Speed | I19: Temp | J19: Pump Pressure | L19: N2 Rate | M19: Total N2 Volume | N19: N2 Stage Volume | O19: Fluid Rate | P19: Total Fluid Volume | Q19: Fluid Stage Volume | R19: Chemical Pump Rate | S19: Total Chemical Pumped | T19: Sand Cut | U19: Remarks | V19: Total Coil Cycled
F20: Coil | G20: Wellhead
B21: From | C21: To | D21: (meters) | E21: (daN) | F21: (MPa) | G21: (MPa) | H21: (m/min) | I21: (°C) | J21: (MPa) | L21: (SCM/min) | M21: (SCM) | N21: (SCM) | O21: (L/min) | P21: (L) | Q21: (L) | R21: (L/min) | S21: (L) | T21: (%)
A22: 1 | M22: =IF(OR($B22="",$B$22=""),"",((TEXT(($B22-$B21),"[m]")*L21)+M21)) | N22: =IF(OR($B23="",$B$23=""),"",(TEXT(($B23-$B22),"[m]")*L22)) | P22: =IF(OR($B22="",$B$22=""),"",((TEXT(($B22-$B21),"[m]")*O21)+P21)) | Q22: =IF(OR($B23="",$B$23=""),"",(TEXT(($B23-$B22),"[m]")*O22)) | S22: =IF(OR($B22="",$B$22=""),"",((TEXT(($B22-$B21),"[m]")*R21)+S21))
A23: 2 | M23: =IF(OR($B23="",$B$22=""),"",((TEXT(($B23-$B22),"[m]")*L22)+M22)) | N23: =IF(OR($B24="",$B$23=""),"",(TEXT(($B24-$B23),"[m]")*L23)) | P23: =IF(OR($B23="",$B$22=""),"",((TEXT(($B23-$B22),"[m]")*O22)+P22)) | Q23: =IF(OR($B24="",$B$23=""),"",(TEXT(($B24-$B23),"[m]")*O23)) | S23: =IF(OR($B23="",$B$22=""),"",((TEXT(($B23-$B22),"[m]")*R22)+S22))
A24: 3 | M24: =IF(OR($B24="",$B$22=""),"",((TEXT(($B24-$B23),"[m]")*L23)+M23)) | N24: =IF(OR($B25="",$B$23=""),"",(TEXT(($B25-$B24),"[m]")*L24)) | P24: =IF(OR($B24="",$B$22=""),"",((TEXT(($B24-$B23),"[m]")*O23)+P23)) | Q24: =IF(OR($B25="",$B$23=""),"",(TEXT(($B25-$B24),"[m]")*O24)) | S24: =IF(OR($B24="",$B$22=""),"",((TEXT(($B24-$B23),"[m]")*R23)+S23))
A25: 4 | M25: =IF(OR($B25="",$B$22=""),"",((TEXT(($B25-$B24),"[m]")*L24)+M24)) | N25: =IF(OR($B26="",$B$23=""),"",(TEXT(($B26-$B25),"[m]")*L25)) | P25: =IF(OR($B25="",$B$22=""),"",((TEXT(($B25-$B24),"[m]")*O24)+P24)) | Q25: =IF(OR($B26="",$B$23=""),"",(TEXT(($B26-$B25),"[m]")*O25)) | S25: =IF(OR($B25="",$B$22=""),"",((TEXT(($B25-$B24),"[m]")*R24)+S24))
A26: 5 | B26: =IF(C25="","",C25) | M26: =IF(OR($B26="",$B$22=""),"",((TEXT(($B26-$B25),"[m]")*L25)+M25)) | N26: =IF(OR($B27="",$B$23=""),"",(TEXT(($B27-$B26),"[m]")*L26)) | P26: =IF(OR($B26="",$B$22=""),"",((TEXT(($B26-$B25),"[m]")*O25)+P25)) | Q26: =IF(OR($B27="",$B$23=""),"",(TEXT(($B27-$B26),"[m]")*O26)) | S26: =IF(OR($B26="",$B$22=""),"",((TEXT(($B26-$B25),"[m]")*R25)+S25))
A27: 6 | B27: =IF(C26="","",C26) | M27: =IF(OR($B27="",$B$22=""),"",((TEXT(($B27-$B26),"[m]")*L26)+M26)) | N27: =IF(OR($B28="",$B$23=""),"",(TEXT(($B28-$B27),"[m]")*L27)) | P27: =IF(OR($B27="",$B$22=""),"",((TEXT(($B27-$B26),"[m]")*O26)+P26)) | Q27: =IF(OR($B28="",$B$23=""),"",(TEXT(($B28-$B27),"[m]")*O27)) | S27: =IF(OR($B27="",$B$22=""),"",((TEXT(($B27-$B26),"[m]")*R26)+S26))
A28: 7 | B28: =IF(C27="","",C27) | M28: =IF(OR($B28="",$B$22=""),"",((TEXT(($B28-$B27),"[m]")*L27)+M27)) | N28: =IF(OR($B29="",$B$23=""),"",(TEXT(($B29-$B28),"[m]")*L28)) | P28: =IF(OR($B28="",$B$22=""),"",((TEXT(($B28-$B27),"[m]")*O27)+P27)) | Q28: =IF(OR($B29="",$B$23=""),"",(TEXT(($B29-$B28),"[m]")*O28)) | S28: =IF(OR($B28="",$B$22=""),"",((TEXT(($B28-$B27),"[m]")*R27)+S27))
A29: 8 | B29: =IF(C28="","",C28) | M29: =IF(OR($B29="",$B$22=""),"",((TEXT(($B29-$B28),"[m]")*L28)+M28)) | N29: =IF(OR($B30="",$B$23=""),"",(TEXT(($B30-$B29),"[m]")*L29)) | P29: =IF(OR($B29="",$B$22=""),"",((TEXT(($B29-$B28),"[m]")*O28)+P28)) | Q29: =IF(OR($B30="",$B$23=""),"",(TEXT(($B30-$B29),"[m]")*O29)) | S29: =IF(OR($B29="",$B$22=""),"",((TEXT(($B29-$B28),"[m]")*R28)+S28))
A30: 9 | B30: =IF(C29="","",C29) | M30: =IF(OR($B30="",$B$22=""),"",((TEXT(($B30-$B29),"[m]")*L29)+M29)) | N30: =IF(OR($B31="",$B$23=""),"",(TEXT(($B31-$B30),"[m]")*L30)) | P30: =IF(OR($B30="",$B$22=""),"",((TEXT(($B30-$B29),"[m]")*O29)+P29)) | Q30: =IF(OR($B31="",$B$23=""),"",(TEXT(($B31-$B30),"[m]")*O30)) | S30: =IF(OR($B30="",$B$22=""),"",((TEXT(($B30-$B29),"[m]")*R29)+S29))
A31: 10 | B31: =IF(C30="","",C30) | M31: =IF(OR($B31="",$B$22=""),"",((TEXT(($B31-$B30),"[m]")*L30)+M30)) | N31: =IF(OR($B32="",$B$23=""),"",(TEXT(($B32-$B31),"[m]")*L31)) | P31: =IF(OR($B31="",$B$22=""),"",((TEXT(($B31-$B30),"[m]")*O30)+P30)) | Q31: =IF(OR($B32="",$B$23=""),"",(TEXT(($B32-$B31),"[m]")*O31)) | S31: =IF(OR($B31="",$B$22=""),"",((TEXT(($B31-$B30),"[m]")*R30)+S30))
A32: 11 | B32: =IF(C31="","",C31) | M32: =IF(OR($B32="",$B$22=""),"",((TEXT(($B32-$B31),"[m]")*L31)+M31)) | N32: =IF(OR($B33="",$B$23=""),"",(TEXT(($B33-$B32),"[m]")*L32)) | P32: =IF(OR($B32="",$B$22=""),"",((TEXT(($B32-$B31),"[m]")*O31)+P31)) | Q32: =IF(OR($B33="",$B$23=""),"",(TEXT(($B33-$B32),"[m]")*O32)) | S32: =IF(OR($B32="",$B$22=""),"",((TEXT(($B32-$B31),"[m]")*R31)+S31))
A33: 12 | B33: =IF(C32="","",C32) | M33: =IF(OR($B33="",$B$22=""),"",((TEXT(($B33-$B32),"[m]")*L32)+M32)) | N33: =IF(OR($B34="",$B$23=""),"",(TEXT(($B34-$B33),"[m]")*L33)) | P33: =IF(OR($B33="",$B$22=""),"",((TEXT(($B33-$B32),"[m]")*O32)+P32)) | Q33: =IF(OR($B34="",$B$23=""),"",(TEXT(($B34-$B33),"[m]")*O33)) | S33: =IF(OR($B33="",$B$22=""),"",((TEXT(($B33-$B32),"[m]")*R32)+S32))
A34: 13 | B34: =IF(C33="","",C33) | M34: =IF(OR($B34="",$B$22=""),"",((TEXT(($B34-$B33),"[m]")*L33)+M33)) | N34: =IF(OR($B35="",$B$23=""),"",(TEXT(($B35-$B34),"[m]")*L34)) | P34: =IF(OR($B34="",$B$22=""),"",((TEXT(($B34-$B33),"[m]")*O33)+P33)) | Q34: =IF(OR($B35="",$B$23=""),"",(TEXT(($B35-$B34),"[m]")*O34)) | S34: =IF(OR($B34="",$B$22=""),"",((TEXT(($B34-$B33),"[m]")*R33)+S33))
A35: 14 | B35: =IF(C34="","",C34) | M35: =IF(OR($B35="",$B$22=""),"",((TEXT(($B35-$B34),"[m]")*L34)+M34)) | N35: =IF(OR($B36="",$B$23=""),"",(TEXT(($B36-$B35),"[m]")*L35)) | P35: =IF(OR($B35="",$B$22=""),"",((TEXT(($B35-$B34),"[m]")*O34)+P34)) | Q35: =IF(OR($B36="",$B$23=""),"",(TEXT(($B36-$B35),"[m]")*O35)) | S35: =IF(OR($B35="",$B$22=""),"",((TEXT(($B35-$B34),"[m]")*R34)+S34))
A36: 15 | B36: =IF(C35="","",C35) | M36: =IF(OR($B36="",$B$22=""),"",((TEXT(($B36-$B35),"[m]")*L35)+M35)) | N36: =IF(OR($B37="",$B$23=""),"",(TEXT(($B37-$B36),"[m]")*L36)) | P36: =IF(OR($B36="",$B$22=""),"",((TEXT(($B36-$B35),"[m]")*O35)+P35)) | Q36: =IF(OR($B37="",$B$23=""),"",(TEXT(($B37-$B36),"[m]")*O36)) | S36: =IF(OR($B36="",$B$22=""),"",((TEXT(($B36-$B35),"[m]")*R35)+S35))
A37: 16 | B37: =IF(C36="","",C36) | M37: =IF(OR($B37="",$B$22=""),"",((TEXT(($B37-$B36),"[m]")*L36)+M36)) | N37: =IF(OR($B38="",$B$23=""),"",(TEXT(($B38-$B37),"[m]")*L37)) | P37: =IF(OR($B37="",$B$22=""),"",((TEXT(($B37-$B36),"[m]")*O36)+P36)) | Q37: =IF(OR($B38="",$B$23=""),"",(TEXT(($B38-$B37),"[m]")*O37)) | S37: =IF(OR($B37="",$B$22=""),"",((TEXT(($B37-$B36),"[m]")*R36)+S36))
... A84: 63 | B84: =IF(C83="","",C83) | M84: =IF(OR($B84="",$B$22=""),"",((TEXT(($B84-$B83),"[m]")*L83)+M83)) | N84: =IF(OR($B85="",$B$23=""),"",(TEXT(($B85-$B84),"[m]")*L84)) | P84: =IF(OR($B84="",$B$22=""),"",((TEXT(($B84-$B83),"[m]")*O83)+P83)) | Q84: =IF(OR($B85="",$B$23=""),"",(TEXT(($B85-$B84),"[m]")*O84)) | S84: =IF(OR($B84="",$B$22=""),"",((TEXT(($B84-$B83),"[m]")*R83)+S83))
A85: 64 | B85: =IF(C84="","",C84) | N85: =IF(OR($B86="",$B$23=""),"",(TEXT(($B86-$B85),"[m]")*L85)) | P85: =IF(OR($B85="",$B$22=""),"",((TEXT(($B85-$B84),"[m]")*O84)+P84)) | Q85: =IF(OR($B86="",$B$23=""),"",(TEXT(($B86-$B85),"[m]")*O85)) | S85: =IF(OR($B85="",$B$22=""),"",((TEXT(($B85-$B84),"[m]")*R84)+S84))
A86: 65 | B86: =IF(C85="","",C85) | M86: =IF(OR($B86="",$B$22=""),"",((TEXT(($B86-$B85),"[m]")*L85)+M85)) | N86: =IF(OR($B87="",$B$23=""),"",(TEXT(($B87-$B86),"[m]")*L86)) | P86: =IF(OR($B86="",$B$22=""),"",((TEXT(($B86-$B85),"[m]")*O85)+P85)) | Q86: =IF(OR($B87="",$B$23=""),"",(TEXT(($B87-$B86),"[m]")*O86)) | S86: =IF(OR($B86="",$B$22=""),"",((TEXT(($B86-$B85),"[m]")*R85)+S85))
A87: 66 | B87: =IF(C86="","",C86) | M87: =IF(OR($B87="",$B$22=""),"",((TEXT(($B87-$B86),"[m]")*L86)+M86)) | N87: =IF(OR($B88="",$B$23=""),"",(TEXT(($B88-$B87),"[m]")*L87)) | P87: =IF(OR($B87="",$B$22=""),"",((TEXT(($B87-$B86),"[m]")*O86)+P86)) | Q87: =IF(OR($B88="",$B$23=""),"",(TEXT(($B88-$B87),"[m]")*O87)) | S87: =IF(OR($B87="",$B$22=""),"",((TEXT(($B87-$B86),"[m]")*R86)+S86))
A88: 67 | B88: =IF(C87="","",C87) | M88: =IF(OR($B88="",$B$22=""),"",((TEXT(($B88-$B87),"[m]")*L87)+M87)) | N88: =IF(OR($B89="",$B$23=""),"",(TEXT(($B89-$B88),"[m]")*L88)) | P88: =IF(OR($B88="",$B$22=""),"",((TEXT(($B88-$B87),"[m]")*O87)+P87)) | Q88: =IF(OR($B89="",$B$23=""),"",(TEXT(($B89-$B88),"[m]")*O88)) | S88: =IF(OR($B88="",$B$22=""),"",((TEXT(($B88-$B87),"[m]")*R87)+S87))
A89: 68 | B89: =IF(C88="","",C88) | M89: =IF(OR($B89="",$B$22=""),"",((TEXT(($B89-$B88),"[m]")*L88)+M88)) | N89: =IF(OR($B90="",$B$23=""),"",(TEXT(($B90-$B89),"[m]")*L89)) | P89: =IF(OR($B89="",$B$22=""),"",((TEXT(($B89-$B88),"[m]")*O88)+P88)) | Q89: =IF(OR($B90="",$B$23=""),"",(TEXT(($B90-$B89),"[m]")*O89)) | S89: =IF(OR($B89="",$B$22=""),"",((TEXT(($B89-$B88),"[m]")*R88)+S88))
A90: 69 | B90: =IF(C89="","",C89) | M90: =IF(OR($B90="",$B$22=""),"",((TEXT(($B90-$B89),"[m]")*L89)+M89)) | N90: =IF(OR($B91="",$B$23=""),"",(TEXT(($B91-$B90),"[m]")*L90)) | P90: =IF(OR($B90="",$B$22=""),"",((TEXT(($B90-$B89),"[m]")*O89)+P89)) | Q90: =IF(OR($B91="",$B$23=""),"",(TEXT(($B91-$B90),"[m]")*O90)) | S90: =IF(OR($B90="",$B$22=""),"",((TEXT(($B90-$B89),"[m]")*R89)+S89))
A91: 70 | B91: =IF(C90="","",C90) | M91: =IF(OR($B91="",$B$22=""),"",((TEXT(($B91-$B90),"[m]")*L90)+M90)) | N91: =IF(OR($B92="",$B$23=""),"",(TEXT(($B92-$B91),"[m]")*L91)) | P91: =IF(OR($B91="",$B$22=""),"",((TEXT(($B91-$B90),"[m]")*O90)+P90)) | Q91: =IF(OR($B92="",$B$23=""),"",(TEXT(($B92-$B91),"[m]")*O91)) | S91: =IF(OR($B91="",$B$22=""),"",((TEXT(($B91-$B90),"[m]")*R90)+S90))
...

Sheet FLHA LSR Nights
B1: DAILY PRE - JOB SAFETY MEETING
B2: FIELD LEVEL HAZARD ASSESSMENT - FLHA
B3: PART - 1 PRE - JOB INFO | G3: Client | L3: ='Start Page'!G7 -> Cenovus Energy Inc | Q3: Unit # | U3: ='Start Page'!G15 -> 1200 | AA3: Date: | AD3: ='Start Page'!G5 -> 46218
G4: On-Site Rep | L4: ='Start Page'!K12 -> Scott King | Q4: Surface | U4: ='Start Page'!G9 -> 11-12-077-05W4 | AA4: Shift: | AD4: NIGHTS
G5: Closest Hospital | L5: Conklin | Q5: UWI | U5: ='Start Page'!G8 -> 102/15-07-077-04W4/00 | AA5: Start Time: | AD5: 0.75
B6: PART - 2 EMERGENCY RESPONSE PLAN | G6: Muster Points | L6: 1 | M6: ='Start Page'!G35 -> Lease entrance | Q6: 2 | R6: ='Start Page'!G36 -> Shack | V6: DIRECTIONS AND STARS # AVAILABLE | AD6: FALSE
G7: Safety Topic: | Q7: ERP Posted | T7: TRUE | U7: First Aid Kit | X7: SCBA | AA7: EYEWASH | AD7: FIRE EXT.
G9: ERP DRILL: | J9: Y | K9: FALSE | L9: N | M9: FALSE | O9: MAN DOWN DRILL: | T9: Y | U9: FALSE | V9: N | W9: FALSE | Y9: BOP DRILL: | AC9: Y | AD9: FALSE | AE9: N | AF9: FALSE
B10: JOB TASK | K10: JSA/SOP # | R10: JOB TASK | AA10: JSA/SOP #
B11: Coil ops | K11: CT-SOP-001 | R11: RIH | AA11: CT-5357
B12: Ranging | K12: CT-5362 | R12: POOH | AA12: CT-5358
B15: PART - 2 HAZARD | G15: Check off the existing or potential hazards that apply to this job. List the hazard numbers in part 3 Controls & Accountability section to identify the related control measure to mitigate and reduce the risk
B16: IDENTIFICATION
B17: ENVIRONMENTAL HAZARDS | J17: SITE SPECIFIC HAZARDS | S17: PHYSICAL HAZARDS | AA17: ENERGY WHEEL HAZARDS
B18: TRUE | C18: 1- | D18: Excessive Heat or Cold | J18: TRUE | K18: 11- | L18: Spill Potential | S18: TRUE | T18: 21- | U18: Critical Lift / Overhead Loads | AA18: FALSE | AB18: 31- | AC18: Gravity
B19: FALSE | C19: 2- | D19: Dust / Fumes / Vapors | J19: FALSE | K19: 12- | L19: Water Body in Vicinity | S19: FALSE | T19: 22- | U19: Tool or Equipment Defect | AA19: FALSE | AB19: 32- | AC19: Biological
B20: TRUE | C20: 3- | D20: Excessive Noise >85Dpa | J20: FALSE | K20: 13- | L20: Open excavation | S20: FALSE | T20: 23- | U20: Pinch / Crush Point | AA20: FALSE | AB20: 33- | AC20: Mechanical
B21: FALSE | C21: 4- | D21: Equipment Vibration | J21: TRUE | K21: 14- | L21: Other Workers In Area | S21: FALSE | T21: 24- | U21: Line Of Fire Zones | AA21: FALSE | AB21: 34- | AC21: Sound
B22: FALSE | C22: 5- | D22: Toxic Gas | J22: TRUE | K22: 15- | L22: Congested Work Area | S22: FALSE | T22: 25- | U22: Dropped Object | AA22: FALSE | AB22: 35- | AC22: Pressure
B23: FALSE | C23: 6- | D23: Flammable Sources | J23: FALSE | K23: 16- | L23: Chemical hazards / WHIMS Products | S23: FALSE | T23: 26- | U23: Falling From Hight | AA23: FALSE | AB23: 36- | AC23: Electrical
B24: FALSE | C24: 7- | D24: Oxygen Deficiency | J24: FALSE | K24: 17- | L24: Radiation Hazards / Norm | S24: TRUE | T24: 27- | U24: Slip, Trip or Fall Protection | AA24: FALSE | AB24: 37- | AC24: Tempature
B25: FALSE | C25: 8- | D25: Ground Disturbance | J25: FALSE | K25: 18- | L25: Poor Visibility / Lighting | S25: FALSE | T25: 28- | U25: Energized Equipment | AA25: FALSE | AB25: 38- | AC25: Motion
B26: FALSE | C26: 9- | D26: Weather Conditions | J26: FALSE | K26: 19- | L26: Poor / Difficult Communication | S26: FALSE | T26: 29- | U26: Rotating Equipment | AA26: FALSE | AB26: 39- | AC26: Radiation
B27: TRUE | C27: 10- | D27: Road / Lease Conditions | J27: FALSE | K27: 20- | L27: Muscle Strain or Sprain | S27: FALSE | T27: 30- | U27: Power Lines | AA27: FALSE | AB27: 40- | AC27: Chemical
B28: PART - 3 CONTROLS & ACCOUNTABILITY | H28: Site Access Authorization / Safe Work Permit # | X28: P.P.E. Inspected and Appropriate | AF28: FALSE
H29: Monitors Bump Tested #:
B30: HAZ ID # | E30: RAM | H30: CONTROL MEASURES | X30: ASSIGNED TO: | AC30: COMPLETED
B31: 1 | H31: Wear appropriate clothing for weather. Take breaks. Stay hydrated | X31: Tyson O | AC31: Y | AD31: FALSE | AE31: N | AF31: FALSE
B32: 3 | H32: Wear hearing protection when required | X32: Rocky C | AC32: Y | AD32: FALSE | AE32: N | AF32: FALSE
B33: 10 | H33: Traction aids. Drive acording to road conditions. Obey posted speed limit | AC33: Y | AD33: FALSE | AE33: N | AF33: FALSE
B34: 11 | H34: Drip trays / walkarounds | X34: James H. | AC34: Y | AD34: FALSE | AE34: N | AF34: FALSE
B35: 14 | H35: Stay Clear of other operations | AC35: Y | AD35: FALSE | AE35: N | AF35: FALSE
B36: 15 | H36: Good housekeeping | AC36: Y | AD36: FALSE | AE36: N | AF36: FALSE
B37: 21 | H37: Tag lines, stay clear of swing path | AC37: Y | AD37: FALSE | AE37: N | AF37: FALSE
B38: 27 | H38: 3 point contact when climbing | AC38: Y | AD38: FALSE | AE38: N | AF38: FALSE
B39: SAFETY MEETING TOPIC DISCUSSED:
B41: Has a change of scope occurred on location or during the course of the job? | Q41: Y | R41: FALSE | S41: N | T41: FALSE
B42: PRE - CRITICAL TASK MEETING | R42: Life Saving Rules
B43: FALSE | C43: Reviewed JSA / JHA / SOP with Crew
B44: FALSE | C44: All workers wearing appropriate PPE | T44: FALSE | W44: FALSE | Z44: FALSE | AC44: FALSE | AF44: FALSE
...

Sheet FLHA LSR Days
B1: DAILY PRE - JOB SAFETY MEETING
B2: FIELD LEVEL HAZARD ASSESSMENT - FLHA
B3: PART - 1 PRE - JOB INFO | G3: Client | L3: ='Start Page'!G7 -> Cenovus Energy Inc | Q3: Unit # | U3: ='Start Page'!G15 -> 1200 | AA3: Date: | AD3: ='Start Page'!G5 -> 46218
G4: On-Site Rep | L4: ='Start Page'!G12 -> Scott King | Q4: Surface | U4: ='Start Page'!G9 -> 11-12-077-05W4 | AA4: Shift: | AD4: DAYS
G5: Closest Hospital | L5: Conklin | Q5: UWI | U5: ='Start Page'!G8 -> 102/15-07-077-04W4/00 | AA5: Start Time: | AD5: 0.25
B6: PART - 2 EMERGENCY RESPONSE PLAN | G6: Muster Points | L6: 1 | M6: ='Start Page'!G35 -> Lease entrance | Q6: 2 | R6: ='Start Page'!G36 -> Shack | V6: DIRECTIONS AND STARS # AVAILABLE | AD6: FALSE
G7: Safety Topic: | Q7: ERP Posted | T7: TRUE | U7: First Aid Kit | X7: SCBA | AA7: EYEWASH | AD7: FIRE EXT.
G9: ERP DRILL: | J9: Y | K9: FALSE | L9: N | M9: TRUE | O9: MAN DOWN DRILL: | T9: Y | U9: FALSE | V9: N | W9: TRUE | Y9: BOP DRILL: | AC9: Y | AD9: TRUE | AE9: N | AF9: FALSE
B10: JOB TASK | K10: JSA/SOP # | R10: JOB TASK | AA10: JSA/SOP #
B15: PART - 2 HAZARD | G15: Check off the existing or potential hazards that apply to this job. List the hazard numbers in part 3 Controls & Accountability section to identify the related control measure to mitigate and reduce the risk
B16: IDENTIFICATION
B17: ENVIRONMENTAL HAZARDS | J17: SITE SPECIFIC HAZARDS | S17: PHYSICAL HAZARDS | AA17: ENERGY WHEEL HAZARDS
B18: TRUE | C18: 1- | D18: Excessive Heat or Cold | J18: FALSE | K18: 11- | L18: Spill Potential | S18: FALSE | T18: 21- | U18: Critical Lift / Overhead Loads | AA18: FALSE | AB18: 31- | AC18: Gravity
B19: FALSE | C19: 2- | D19: Dust / Fumes / Vapors | J19: FALSE | K19: 12- | L19: Water Body in Vicinity | S19: FALSE | T19: 22- | U19: Tool or Equipment Defect | AA19: FALSE | AB19: 32- | AC19: Biological
B20: FALSE | C20: 3- | D20: Excessive Noise >85Dpa | J20: FALSE | K20: 13- | L20: Open excavation | S20: FALSE | T20: 23- | U20: Pinch / Crush Point | AA20: FALSE | AB20: 33- | AC20: Mechanical
B21: FALSE | C21: 4- | D21: Equipment Vibration | J21: FALSE | K21: 14- | L21: Other Workers In Area | S21: FALSE | T21: 24- | U21: Line Of Fire Zones | AA21: FALSE | AB21: 34- | AC21: Sound
B22: FALSE | C22: 5- | D22: Toxic Gas | J22: FALSE | K22: 15- | L22: Congested Work Area | S22: FALSE | T22: 25- | U22: Dropped Object | AA22: FALSE | AB22: 35- | AC22: Pressure
B23: FALSE | C23: 6- | D23: Flammable Sources | J23: FALSE | K23: 16- | L23: Chemical hazards / WHIMS Products | S23: FALSE | T23: 26- | U23: Falling From Hight | AA23: FALSE | AB23: 36- | AC23: Electrical
B24: FALSE | C24: 7- | D24: Oxygen Deficiency | J24: FALSE | K24: 17- | L24: Radiation Hazards / Norm | S24: FALSE | T24: 27- | U24: Slip, Trip or Fall Protection | AA24: FALSE | AB24: 37- | AC24: Tempature
B25: FALSE | C25: 8- | D25: Ground Disturbance | J25: FALSE | K25: 18- | L25: Poor Visibility / Lighting | S25: FALSE | T25: 28- | U25: Energized Equipment | AA25: FALSE | AB25: 38- | AC25: Motion
B26: FALSE | C26: 9- | D26: Weather Conditions | J26: FALSE | K26: 19- | L26: Poor / Difficult Communication | S26: FALSE | T26: 29- | U26: Rotating Equipment | AA26: FALSE | AB26: 39- | AC26: Radiation
B27: FALSE | C27: 10- | D27: Road / Lease Conditions | J27: FALSE | K27: 20- | L27: Muscle Strain or Sprain | S27: FALSE | T27: 30- | U27: Power Lines | AA27: FALSE | AB27: 40- | AC27: Chemical
B28: PART - 3 CONTROLS & ACCOUNTABILITY | H28: Site Access Authorization / Safe Work Permit # | X28: P.P.E. Inspected and Appropriate | AF28: FALSE
H29: Monitors Bump Tested #:
B30: HAZ ID # | E30: RAM | H30: CONTROL MEASURES | X30: ASSIGNED TO: | AC30: COMPLETED
AC31: Y | AD31: FALSE | AE31: N | AF31: FALSE
AC32: Y | AD32: FALSE | AE32: N | AF32: FALSE
AC33: Y | AD33: FALSE | AE33: N | AF33: FALSE
AC34: Y | AD34: FALSE | AE34: N | AF34: FALSE
AC35: Y | AD35: FALSE | AE35: N | AF35: FALSE
AC36: Y | AD36: FALSE | AE36: N | AF36: FALSE
AC37: Y | AD37: FALSE | AE37: N | AF37: FALSE
AC38: Y | AD38: FALSE | AE38: N | AF38: FALSE
B39: SAFETY MEETING TOPIC DISCUSSED:
B41: Has a change of scope occurred on location or during the course of the job? | Q41: Y | R41: FALSE | S41: N | T41: FALSE
B42: PRE - CRITICAL TASK MEETING | R42: Life Saving Rules
B43: FALSE | C43: Reviewed JSA / JHA / SOP with Crew
B44: FALSE | C44: All workers wearing appropriate PPE | T44: FALSE | W44: FALSE | Z44: FALSE | AC44: FALSE | AF44: FALSE
B45: FALSE | C45: Specific danger signs posted
B46: FALSE | C46: Critical Task Procedure reviewed
...

Sheet FLHA
B1: DAILY PRE - JOB SAFETY MEETING
B2: FIELD LEVEL HAZARD ASSESSMENT - FLHA
B3: PART - 1 PRE - JOB. INFO | G3: Client | L3: ='Start Page'!G7 -> Cenovus Energy Inc | Q3: Unit # | U3: ='Start Page'!G15 -> 1200 | AA3: Date: | AD3: ='Start Page'!G5 -> 46218
G4: On-Site Rep | L4: ='Start Page'!G12 -> Scott King | Q4: Surface | U4: ='Start Page'!G9 -> 11-12-077-05W4 | AA4: Shift:
G5: Closest Hospital | Q5: UWI | U5: ='Start Page'!G8 -> 102/15-07-077-04W4/00 | AA5: Start Time:
B6: PART - 2 EMERGENCY RESPONSE PLAN | G6: Muster Points | L6: 1 | M6: ='Start Page'!G35 -> Lease entrance | Q6: 2 | R6: ='Start Page'!G36 -> Shack | V6: DIRECTIONS AND STARS # AVAILABLE | AD6: TRUE
G7: Safety Topic: | Q7: ERP Posted | T7: FALSE | U7: First Aid Kit | X7: SCBA | AA7: EYEWASH | AD7: FIRE EXT.
G9: ERP DRILL: | J9: Y | K9: FALSE | L9: N | M9: FALSE | O9: MAN DOWN DRILL: | T9: Y | U9: FALSE | V9: N | W9: FALSE | Y9: BOP DRILL: | AC9: Y | AD9: FALSE | AE9: N | AF9: FALSE
B10: JOB TASK | K10: JSA/SOP # | R10: JOB TASK | AA10: JSA/SOP #
B15: PART - 2 HAZARD | G15: Check off the existing or potential hazards that apply to this job. List the hazard numbers in part 3 Controls & Accountability section to identify the related control measure to mitigate and reduce the risk
B16: IDENTIFICATION
B17: ENVIRONMENTAL HAZARDS | J17: SITE SPECIFIC HAZARDS | S17: PHYSICAL HAZARDS | AA17: ENERGY WHEEL HAZARDS
B18: FALSE | C18: 1- | D18: Excessive Heat or Cold | J18: FALSE | K18: 11- | L18: Spill Potential | S18: FALSE | T18: 21- | U18: Critical Lift / Overhead Loads | AA18: FALSE | AB18: 31- | AC18: Gravity
B19: FALSE | C19: 2- | D19: Dust / Fumes / Vapors | J19: FALSE | K19: 12- | L19: Water Body in Vicinity | S19: FALSE | T19: 22- | U19: Tool or Equipment Defect | AA19: FALSE | AB19: 32- | AC19: Biological
B20: FALSE | C20: 3- | D20: Excessive Noise >85Dpa | J20: FALSE | K20: 13- | L20: Open excavation | S20: FALSE | T20: 23- | U20: Pinch / Crush Point | AA20: FALSE | AB20: 33- | AC20: Mechanical
B21: FALSE | C21: 4- | D21: Equipment Vibration | J21: FALSE | K21: 14- | L21: Other Workers In Area | S21: FALSE | T21: 24- | U21: Line Of Fire Zones | AA21: FALSE | AB21: 34- | AC21: Sound
B22: FALSE | C22: 5- | D22: Toxic Gas | J22: FALSE | K22: 15- | L22: Congested Work Area | S22: FALSE | T22: 25- | U22: Dropped Object | AA22: FALSE | AB22: 35- | AC22: Pressure
B23: FALSE | C23: 6- | D23: Flammable Sources | J23: FALSE | K23: 16- | L23: Chemical hazards / WHIMS Products | S23: FALSE | T23: 26- | U23: Falling From Hight | AA23: FALSE | AB23: 36- | AC23: Electrical
B24: FALSE | C24: 7- | D24: Oxygen Deficiency | J24: FALSE | K24: 17- | L24: Radiation Hazards / Norm | S24: FALSE | T24: 27- | U24: Slip, Trip or Fall Protection | AA24: FALSE | AB24: 37- | AC24: Tempature
B25: FALSE | C25: 8- | D25: Ground Disturbance | J25: FALSE | K25: 18- | L25: Poor Visibility / Lighting | S25: FALSE | T25: 28- | U25: Energized Equipment | AA25: FALSE | AB25: 38- | AC25: Motion
B26: FALSE | C26: 9- | D26: Weather Conditions | J26: FALSE | K26: 19- | L26: Poor / Difficult Communication | S26: FALSE | T26: 29- | U26: Rotating Equipment | AA26: FALSE | AB26: 39- | AC26: Radiation
B27: FALSE | C27: 10- | D27: Road / Lease Conditions | J27: FALSE | K27: 20- | L27: Muscle Strain or Sprain | S27: FALSE | T27: 30- | U27: Power Lines | AA27: FALSE | AB27: 40- | AC27: Chemical
B28: PART - 3 CONTROLS & ACCOUNTABILITY | H28: Site Access Authorization / Safe Work Permit # | X28: P.P.E. Inspected and Appropriate | AF28: FALSE
H29: Monitors Bump Tested #:
B30: HAZ ID # | E30: RAM | H30: CONTROL MEASURES | X30: ASSIGNED TO: | AC30: COMPLETED
AC31: Y | AD31: FALSE | AE31: N | AF31: FALSE
AC32: Y | AD32: FALSE | AE32: N | AF32: FALSE
AC33: Y | AD33: FALSE | AE33: N | AF33: FALSE
AC34: Y | AD34: FALSE | AE34: N | AF34: FALSE
AC35: Y | AD35: FALSE | AE35: N | AF35: FALSE
AC36: Y | AD36: FALSE | AE36: N | AF36: FALSE
AC37: Y | AD37: FALSE | AE37: N | AF37: FALSE
H38: knkl | AC38: Y | AD38: FALSE | AE38: N | AF38: FALSE
B39: SAFETY MEETING TOPIC DISCUSSED:
B41: Has a change of scope occurred on location or during the course of the job? | Q41: Y | R41: FALSE | S41: N | T41: FALSE
B42: PRE - CRITICAL TASK MEETING | R42: PRE - BLASTING / RADIATION MEETING
B43: FALSE | C43: Reviewed JSA / JHA / SOP with Crew | R43: FALSE | S43: All Transmission Devices Turned off
B44: FALSE | C44: All workers wearing appropriate PPE | R44: FALSE | S44: Weather conditions favorable
B45: FALSE | C45: Specific danger signs posted | R45: FALSE | S45: Blasting / radiation sign posed at entrance
B46: FALSE | C46: Critical Task Procedure reviewed | R46: FALSE | S46: Pre Blast / Radiation Procedure reviewed
...

Sheet RAM
B2: For People | C2: For Assets | D2: For Environment | E2: For Corporate Image | F2: RISK ASSESSMENT MATRIX
B3: Multiple Fatalities | C3: Total - loss write off | D3: Catastrophic impact | E3: International exposure and impact | F3: Increased Severity | G3: 5 | J3: High
B4: Single Fatality | C4: Major equipment damage | D4: Major long term impact | E4: National impact | G4: 4
B5: Major health impact or injury - LT or PPD | C5: Significant localised damage | D5: Significant localised impact | E5: Considerable impact (regional coverage) | G5: 3 | J5: Medium
B6: Minor health impact of injury MTO or RWC | C6: Minor damage | D6: Minor impact | E6: Limited impact (local media) | G6: 2
B7: Slight health impact or injury FA sprain/bruise | C7: Slight damage | D7: Slight impact | E7: Slight impact (annoyance to resident) | G7: 1 | J7: Low
B8: No health effect or injury | C8: No damage | D8: No effect | E8: No impact | G8: 0
B9: Acronyms: | H9: A | I9: B | J9: C | K9: D | L9: E
B10: ENV - Environmental Incident | D10: MTO - Medical Treatment Only | H10: Increased Probability / Frequency
B11: EQD - Equipment Damage | D11: MVI - Motor Vehicle Incident | H11: Never heard of in our industry | I11: Heard of before in our industry | J11: Has occurred before In our industry | K11: Has happened recently (within the last 2 months) | L11: Has happened more than 3 times a year on our locations
B12: FA - First Aid | D12: PPD - Permanent Partial Disability
B13: FTL - Fatality | D13: PTD - Permanent Total Disability
B14: LT - Lost Time | D14: RWC - Restricted Work Case

Sheet ERP
C1: ERP - Emergency Response Plan
B3: PART - 1 JOB INFO | G3: Client | J3: ='Start Page'!G7 -> Cenovus Energy Inc | O3: Unit # | S3: ='Start Page'!G15 -> 1200 | X3: Date | AB3: ='Start Page'!G5 -> 46218
G4: On-Site Rep | J4: ='Start Page'!G12 -> Scott King | O4: Surface location | S4: ='Start Page'!G9 -> 11-12-077-05W4 | X4: 24hr Operations | AC4: Y | AD4: FALSE | AE4: N | AF4: FALSE
G5: Phone | J5: ='Start Page'!G13 -> 709-763-5114 | O5: UWI | S5: ='Start Page'!G8 -> 102/15-07-077-04W4/00 | X5: Workers On-Site | AB5: Day | AD5: Night
D6: Supervisor 1 | G6: ='Start Page'!G22 -> Mitchell Blomgren | K6: Day | M6: FALSE | N6: Supervisor 2 | Q6: ='Start Page'!K22 -> Tyson Orr | U6: Day | W6: FALSE | X6: Weather
D7: Phone | G7: ='Start Page'!G34 -> 403-352-1688 | K7: Night | M7: FALSE | N7: Phone | Q7: ='Start Page'!K34 -> 780-214-2175 | U7: Night | W7: FALSE | X7: Temp | AD7: ℃
B9: PART - 2 Emergency Response Plan | G9: Muster Point 1 | K9: ='Start Page'!G35 -> Lease entrance | Q9: Muster Point 2 | U9: ='Start Page'!G36 -> Shack | AA9: Wind Direction
G10: Emergency Phone | P10: 24hr Emergency Number
G11: STARS SITE AVAILABLE | L11: FALSE | M11: STARS SITE #
F12: Nearest Medical Center | Q12: Response Time to Center | X12: hr(s) | AA12: mins.
F13: Local Ambulance | Q13: Response Time to Location | X13: hr(s) | AA13: mins.
F14: Nearest Helicopter | Q14: Response Time to Location | X14: hr(s) | AA14: mins.
B16: Part -3 Transportation and Communication | G16: Directions to Site
B21: Service to be used at work Location:
B22: (If a helicopter is the primary, or only method of evacuation, prior arraignments must be made to ensure and aircraft will be a valuable during working hrs)
D23: Local Ambulance | H23: FALSE | M23: Helicopter | Q23: FALSE | V23: On-Site EVT | Z23: FALSE
B24: Communication Method to Contact Emergency Services :
B25: (The Site supervisor is responsible to summon emergency services when required, however if he / she is not able to, any other person on site may do so)
E26: Cell Phone | H26: TRUE | N26: Two Way Radio (Frequency) | T26: TRUE | Y26: Other
B27: Information to be given to Emergency Responding Personal:
C28: Total Number of workers | R28: Contact Number at Site | W28: ='Start Page'!G13 -> 709-763-5114
C29: Legal Land Description | I29: ='Start Page'!G9 -> 11-12-077-05W4 | R29: Closest Airstrip
C30: Latitude | R30: Weather Conditions
C31: Longitude | R31: Nature of Injury
C32: Directions to Location | H32: Reference by Ground or Air. Directions for Ground are listed above.
B33: Transport by Air:
B34: Provide Coordinates, (Lat / Long) or Legal Land Description (LSD)
G35: FALSE | H35: Ensure a landing site is cleared and identified | S35: FALSE | T35: Request Stretcher Equipped Helicopter
B37: PART - 4 SAFETY EQUIP | G37: Continues Air Monitoring | L37: Y | M37: FALSE | N37: N | O37: FALSE | Q37: O₂ | R37: 20.9 | T37: % | V37: LEL | W37: 0 | Y37: % | AA37: H₂S | AB37: 0 | AD37: %
G38: FIRE EXT | K38: EYE WASH | O38: SCBA | S38: FIRST AID KIT | W38: SPILL KIT | AA38: BURN KIT
B41: PART - 5 FIRST RESPONDERS | G41: First Responders
G42: 1) | H42: ='Start Page'!G22 -> Mitchell Blomgren | T42: 3) | U42: ='Start Page'!G23 -> Nevada Mohn
G43: 2) | H43: ='Start Page'!K22 -> Tyson Orr | T43: 4) | U43: ='Start Page'!K23 -> Rocky Corigal
B44: Workers Covered by This Plan

Sheet Fall Protection 
C1: SITE SPECIFIC FALL PROTECTION PLAN
B3: PART - 1 JOB INFO | G3: Client | J3: ='Start Page'!G7 -> Cenovus Energy Inc | O3: Unit # | S3: ='Start Page'!G15 -> 1200 | X3: Date | AB3: ='Start Page'!G5 -> 46218
G4: On-Site Rep | J4: ='Start Page'!G12 -> Scott King | O4: Surface location | S4: ='Start Page'!G9 -> 11-12-077-05W4 | X4: 24hr Operations | AC4: Y | AD4: TRUE | AE4: N | AF4: FALSE
G5: Phone | J5: ='Start Page'!G13 -> 709-763-5114 | O5: Muster Point 1 | S5: ='Start Page'!G35 -> Lease entrance | X5: Muster Point 2 | AB5: ='Start Page'!G36 -> Shack
B6: SCOPE OF WORK
B10: PART - 2 FALL PROTECTION REQUIREMENTS | H10: Full Body Harness | M10: FALSE | N10: Shock Absorbing Lanyard
G11: FALSE | H11: Safety Belt | M11: FALSE | N11: Anchor Sling
H12: Lanyard | M12: FALSE | N12: Temporary Anchor Point
G13: FALSE | H13: Power Lift | M13: FALSE | N13: Vertical Life Line
G14: FALSE | H14: Perm Horiz Lifeline | M14: FALSE | N14: Temporary Horiz Lifeline
M15: FALSE | N15: Other
G16: FALSE | H16: Minimum Clearance Distance: | P16: m
H17: FD + HS + DD + SF == TFD (Total Fall Distance)
H18: TDF (Total Fall Distance) must be less thab MRC (Minimum Fall Distance)
B21: PART - 3 FALL PROTECTION & RESCUE PLAN | G21: FALSE | H21: A Fall Protection Plan is required when works may fall 1.8m or ore and are not protected by guardrails.
G22: FALSE | H22: Potential swing falls must be avoided at all costs. The Fall Protection Plan must be specific for each work site.
G23: FALSE | H23: Refer to QHSE Manual sections C & E for further details.
B24: FALL PROTECTION & RESCUE PLAN
B25: FALSE | D25: Applicable workers are currently certified in Fall Arrest Training | L25: FALSE | N25: All Fall Arrest equipment is suitable condition for use | W25: FALSE | Y25: Pre-Use visual inspection of equipment conducted prior to use
B27: FALSE | D27: Rescue equipment is readily available for immediate use | L27: FALSE | N27: Use of ladder - 4. to 1 ratio, stable surface, ladder secured | W27: FALSE | Y27: Stairs / Handrails required / installed.
B29: FALSE | D29: Hazards mitigated, controlled and communicated prior to begining task | L29: FALSE | N29: LSR certified
B32: Hazard Assessment
B33: FALSE | C33: Fall Hazards
B34: FALSE | C34: Mitigation or Controls Put in Place
B35: FALSE | C35: Location of Fixed or Certified Anchors to be Used
B36: FALSE | C36: Calculated Free Fall Distance / Clearance Requirements
B37: FALSE | C37: Location of Rescue Equipment
B38: FALSE | C38: Personal and Rescue Equipment designated to Conduct Rescue
B39: FALSE | C39: Methods to be used to Rescue Injured or suspended Person
B40: 7 Step ERP | H40: Name (Print) | P40: Signature | Y40: First Aider / Rescuer
B41: 1) | C41: Stop | H41: ='Start Page'!G22 -> Mitchell Blomgren | Y41: TRUE | Z41: First Aider | AC41: FALSE | AD41: Rescuer
B42: 2) | C42: Alarm | H42: ='Start Page'!K22 -> Tyson Orr | Y42: TRUE | Z42: First Aider | AC42: FALSE | AD42: Rescuer
B43: 3) | C43: Secure | H43: ='Start Page'!G23 -> Nevada Mohn | Y43: TRUE | Z43: First Aider | AC43: FALSE | AD43: Rescuer
B44: 4) | C44: Assessed | H44: ='Start Page'!K23 -> Rocky Corigal | Y44: TRUE | Z44: First Aider | AC44: FALSE | AD44: Rescuer
B45: 5) | C45: Plan | H45: ='Start Page'!G24 -> Jason Corbeil | Y45: TRUE | Z45: First Aider | AC45: FALSE | AD45: Rescuer
B46: 6) | C46: Protect | H46: ='Start Page'!K24 -> 0 | Y46: TRUE | Z46: First Aider | AC46: FALSE | AD46: Rescuer
B47: 7) | C47: Act / Rescue | Y47: FALSE | Z47: First Aider | AC47: FALSE | AD47: Rescuer
C49: SUPERVISOR (Days) | H49: ='Start Page'!G22 -> Mitchell Blomgren | N49: SIGNATURE | Y49: DATE | AB49: ='Start Page'!G5 -> 46218
C50: SUPERVISOR (Nights) | H50: ='Start Page'!H22 -> 0 | N50: SIGNATURE | Y50: DATE | AB50: ='Start Page'!G5 -> 46218

Sheet Fire & Explosion
C1: Fire & Explosion Hazard Management Plan
B3: PART - 1 JOB INFO | G3: Client | J3: ='Start Page'!G7 -> Cenovus Energy Inc | O3: Unit # | S3: ='Start Page'!G15 -> 1200 | X3: Date | AB3: ='Start Page'!G5 -> 46218
G4: On-Site Rep | J4: ='Start Page'!G12 -> Scott King | O4: Surface location | S4: ='Start Page'!G9 -> 11-12-077-05W4 | X4: 24hr Operations | AC4: Y | AD4: FALSE | AE4: N | AF4: FALSE
G5: Operation | J5: ='Start Page'!G31 -> Ranging | O5: Muster Point 1 | S5: ='Start Page'!G35 -> Lease entrance | X5: Muster Point 2 | AB5: ='Start Page'!G36 -> Shack
B7: Fire & Eplosion Hazards | R7: Critical Risk Factors
B8: (Identify components of the fire triagle that could be present) | R8: (Identify that could be present)
U9: Liquid | X9: Hydrocarbons
U10: H₂S
C11: Energy and Ignition | L11: Oxgen / Air | U11: Oil | X11: Based Work Over Fluids
U12: High | X12: Pressure or Tempature
U13: Rapid | X13: Pressure or Tempature Change
U14: Flow | X14: Into Closed System
U15: Pre- | X15: Esisting Traped AIR
F16: Fuels / Hydrocarbons | U16: Mixing | X16: of Prducts or Chemicals
U17: Dry | X17: Vegitantion
B19: Level of Risk (Identify) | R19: Procedures Required
G21: Improbable | J21: Fire triangel dose not exist | W21: Alertness for failure or barriers or controls that would efect FEHM
G24: Possible | J24: Fire Trianle may exist , No risk factor present | W24: Reasable hazard management plan
G27: Probable | J27: Fire Triangle may exist. One or more ris factors present | W27: detailed, site-specific hazard management plan Documented risk assessment
B30: Fire & Explosion Controls (What is bing done to prevent fire from forming?)
C31: - | D31: ERP DISSCUSSED AND HAZARDS TRANSLATED TO ALL PERSONNEL
C32: - | D32: IGNITION SOURCES
C33: - | D33: LEL MONITORS
C34: - | D34: TRAFFIC CONTROL
C35: - | D35: WELL CONTROL
B36: Emeergancy Controls (What is the response if conditions change?)
C37: - | D37: SOUND ALARM
C38: - | D38: WELL CONTROL
C39: - | D39: ASSES AND ACTIVATE NEW PLAN
B40: Control of Hazardous Sourses (What is the response if conditions change?)
C41: - | D41: Fuel / Hydrocarbon Sourses
D42: Hydrocarbons from produced water, Air/Oxygen, Wellbore fluids flowing back to catch tank
C43: - | D43: Energy / Ignition Sourses
D44: Temperature of fluids, fluids under pressreur, Pressure on wellbore, Static Elctricity, Open Flame.
C45: - | D45: Air / Oxygen Sourses
D46: Well on vacume, Unpurged lines and/or equipment, Wellbore open to atmosphere
B48: FALSE | C48: Workers are aware of and can recognize potential fire and explosion hazard related to this operation
B49: FALSE | C49: All workeers have been made aware of this fire and explosion plan
B50: Workers Coverd by This Plan
C60: SUPERVISOR (Days) | H60: ='Start Page'!G22 -> Mitchell Blomgren | N60: SIGNATURE | Y60: DATE | AB60: ='Start Page'!G5 -> 46218
...

Sheet Drills 
C1: EMERGENCY RESPONSE DRILL
C2: BOP /MAN DOWN / ERP
B3: PART - 1 INFO | G3: Client | J3: ='Start Page'!G7 -> Cenovus Energy Inc | O3: Unit # | S3: ='Start Page'!G15 -> 1200 | X3: Date | AB3: ='Start Page'!G5 -> 46218
G4: On-Site Rep | J4: ='Start Page'!G12 -> Scott King | O4: Surface location | S4: ='Start Page'!G9 -> 11-12-077-05W4 | X4: 24hr Operations | AC4: Y | AD4: TRUE | AE4: N | AF4: FALSE
G5: Phone | J5: ='Start Page'!G13 -> 709-763-5114 | O5: UWI | S5: ='Start Page'!G8 -> 102/15-07-077-04W4/00 | X5: Workers On-Site | AB5: Day | AC5: FALSE | AD5: Night | AF5: FALSE
B6: Supervisor 1 | E6: ='Start Page'!G22 -> Mitchell Blomgren | I6: Day | K6: FALSE | L6: Supervisor 2 | O6: ='Start Page'!K22 -> Tyson Orr | S6: Day | U6: FALSE | V6: Weather | AC6: Muster Point Used
B7: Phone | E7: ='Start Page'!G34 -> 403-352-1688 | I7: Night | K7: FALSE | L7: Phone | O7: ='Start Page'!K34 -> 780-214-2175 | S7: Night | U7: FALSE | V7: Wind Direction | AC7: FALSE | AD7: 1 | AE7: FALSE | AF7: 2
B8: Muster Point 1 | F8: ='Start Page'!G35 -> Lease entrance | L8: Muster Point 2 | P8: ='Start Page'!G36 -> Shack | V8: Temp | AB8: ℃
B9: Completed By | L9: Crew On Site | Q9: SCBA Available | U9: Y | V9: TRUE | W9: N | X9: FALSE | Y9: SCBA Quantity | AC9: 2
B10: Scenario
J12: ERP Drill | N12: FALSE | O12: Man Down Drill | S12: FALSE | T12: BOP Drill | X12: FALSE
J13: Times
J14: Alert Called | R14: Elapsed
J15: Well Shut In | R15: Elapsed
J16: Man Rescued | R16: Elapsed
D18: Mark appropriate box for procedure applicable to drill | Y18: YES | AA18: NO | AC18: N/A
D19: 1) | E19: Was the horn used to sound alert? | Y19: FALSE | AA19: FALSE | AC19: FALSE
D20: 2) | E20: Did all crew members resend to alert ? | Y20: FALSE | AA20: FALSE | AC20: FALSE
D21: 3) | E21: Was the horn used to sound alert? | Y21: FALSE | AA21: FALSE | AC21: FALSE
D22: 4) | E22: Did on-site supervisor co-ordinate drill? | Y22: FALSE | AA22: FALSE | AC22: FALSE
D23: 5) | E23: Question crew about kick detection and shut in procedures? | Y23: FALSE | AA23: FALSE | AC23: FALSE
D24: 6) | E24: Question crew about sign of man down? Plan for rescue adequate? | Y24: FALSE | AA24: FALSE | AC24: FALSE
D25: 7) | E25: Was well shut I completed properly? | Y25: FALSE | AA25: FALSE | AC25: FALSE
D26: 8) | E26: Did all crew members know there position and responsibilities? | Y26: FALSE | AA26: FALSE | AC26: FALSE
D27: 9) | E27: Was pump kicked out? | Y27: FALSE | AA27: FALSE | AC27: FALSE
D28: 10) | E28: Was tubing shut-in / valve closed? | Y28: FALSE | AA28: FALSE | AC28: FALSE
D29: 11) | E29: Were BOP rams closed? / Master Valve & well shut in? | Y29: FALSE | AA29: FALSE | AC29: FALSE
D30: 12) | E30: Was emergency stop activated? / Positive Air Kills & engine shut off? | Y30: FALSE | AA30: FALSE | AC30: FALSE
... D38: 20) | E38: Were the crew members at the muster point / safety zone effectively? | Y38: FALSE | AA38: FALSE | AC38: FALSE
D39: Comments :
D43: Crew Attendance
D44: Name | K44: Initial | M44: Name | T44: Initial | V44: Name | AC44: Initial
C48: UNIT SUPERVISOR | N48: SIGNATURE | Y48: DATE | AB48: ='Start Page'!G5 -> 46218
C49: ON SITE REP | N49: SIGNATURE | Y49: DATE | AB49: ='Start Page'!G5 -> 46218
B50: Print off copy and keep for your records
C52: EMERGENCY RESPONSE DRILL
C53: Emergency Response Drill Evaluation
C54: The drill was conducted on the fallowing EMERGENCY:
C55: Date of Drill: | O55: Person Conducting Drill:
C57: Type | G57: Sat | I57: U/S | K57: Corrective action | U57: By Whom | AA57: Date
...

Sheet Daily Inspection
C1: Daily Inspection
B3: PART - 1 JOB INFO | G3: Client | J3: ='Start Page'!G7 -> Cenovus Energy Inc | O3: Unit # | S3: ='Start Page'!G15 -> 1200 | Y3: Date | AD3: ='Start Page'!G5 -> 46218
G4: On-Site Rep | J4: ='Start Page'!G12 -> Scott King | O4: Surface location | S4: ='Start Page'!G9 -> 11-12-077-05W4 | Y4: 24hr Operations | AE4: Y | AF4: FALSE | AG4: N | AH4: FALSE
G5: Operation | J5: ='Start Page'!G31 -> Ranging | O5: Day Supervisor | S5: ='Start Page'!G22 -> Mitchell Blomgren | Y5: Night Supervisor | AD5: ='Start Page'!K22 -> Tyson Orr
B7: 24hr PTO inspection | G7: Hrs | K7: hrs | L7: PTO Inspected | P7: TRUE | Q7: FALSE | R7: PTO Lubricated | V7: FALSE | X7: FALSE
A8: FALSE
T9: DAYS | X9: NIGHTS | AB9: COMMENTS
B10: PART -2 ACCUMULATORS | T10: YES | U10: NO | V10: N/A | X10: YES | Y10: NO | Z10: N/A
B11: 1 | C11: Visual check of all accuulator components and fittings for damge | T11: TRUE | U11: FALSE | V11: FALSE | X11: FALSE | Y11: FALSE | Z11: FALSE
B12: 2 | C12: Check all hydraulic hoses and fittings for damage or excessice wear | T12: TRUE | U12: FALSE | V12: FALSE | X12: FALSE | Y12: FALSE | Z12: FALSE
B13: 3 | C13: Check all guages | T13: TRUE | U13: FALSE | V13: FALSE | X13: FALSE | Y13: FALSE | Z13: FALSE
B14: 4 | C14: Check all electrical cords and cinnectors | T14: TRUE | U14: FALSE | V14: FALSE | X14: FALSE | Y14: FALSE | Z14: FALSE
B15: 5 | C15: Check all fluids (Engne & Hydraulic) | T15: TRUE | U15: FALSE | V15: FALSE | X15: FALSE | Y15: FALSE | Z15: FALSE
B16: PART - 3 BOP's
B17: 1 | C17: Inspect all hoses and fittings | T17: TRUE | U17: FALSE | V17: FALSE | X17: FALSE | Y17: FALSE | Z17: FALSE
B18: 2 | C18: Fuction test rams and check for hydraulic leaks | T18: TRUE | U18: FALSE | V18: FALSE | X18: FALSE | Y18: FALSE | Z18: FALSE
B19: 3 | C19: Visually inspect rams seals, slips ans shears for wear | T19: TRUE | U19: FALSE | V19: FALSE | X19: FALSE | Y19: FALSE | Z19: FALSE
B20: 4 | C20: Visual internal check clenliness and flush if requierd | T20: TRUE | U20: FALSE | V20: FALSE | X20: FALSE | Y20: FALSE | Z20: FALSE
B21: 5 | C21: Inspect upper and lower flange or Bowen connections (repace seals if needed) | T21: TRUE | U21: FALSE | V21: FALSE | X21: FALSE | Y21: FALSE | Z21: FALSE
B22: 6 | C22: Ensure all valves are greased and functioning properly | T22: TRUE | U22: FALSE | V22: FALSE | X22: FALSE | Y22: FALSE | Z22: FALSE
B23: PART - 4 INJECTOR
B24: 1 | C24: Check hoses and fitting for leaks, damage or wear | T24: TRUE | U24: FALSE | V24: FALSE | X24: FALSE | Y24: FALSE | Z24: FALSE
B25: 2 | C25: Check gripper blocks for dirt, debris, damage or wear | T25: TRUE | U25: FALSE | V25: FALSE | X25: FALSE | Y25: FALSE | Z25: FALSE
B26: 3 | C26: Check lifting slings and shackles for damage or wear | T26: TRUE | U26: FALSE | V26: FALSE | X26: FALSE | Y26: FALSE | Z26: FALSE
B27: 4 | C27: Check injector frame and base for cracks, and or damage | T27: TRUE | U27: FALSE | V27: FALSE | X27: FALSE | Y27: FALSE | Z27: FALSE
B28: 5 | C28: Check sprockets for wear or damage | T28: TRUE | U28: FALSE | V28: FALSE | X28: FALSE | Y28: FALSE | Z28: FALSE
B29: 6 | C29: Check chain lubrication and tension | T29: TRUE | U29: FALSE | V29: FALSE | X29: FALSE | Y29: FALSE | Z29: FALSE
B30: 7 | C30: Check for missing or damaged pins in injector chains | T30: TRUE | U30: FALSE | V30: FALSE | X30: FALSE | Y30: FALSE | Z30: FALSE
B31: 8 | C31: Check Hydraulic cylinders for wear and leakage | T31: TRUE | U31: FALSE | V31: FALSE | X31: FALSE | Y31: FALSE | Z31: FALSE
B32: 9 | C32: Check load cell operation | T32: TRUE | U32: FALSE | V32: FALSE | X32: FALSE | Y32: FALSE | Z32: FALSE
B33: 10 | C33: Check planetary gear box oil levels | T33: TRUE | U33: FALSE | V33: FALSE | X33: FALSE | Y33: FALSE | Z33: FALSE
B34: 11 | C34: Controls are functioning properly and that gauges in cab matches gauge on inj. | T34: TRUE | U34: FALSE | V34: FALSE | X34: FALSE | Y34: FALSE | Z34: FALSE
B35: 12 | C35: Stripper rubber, brass, non extrussion rings and all connections for leaks. Check oilers | T35: TRUE | U35: FALSE | V35: FALSE | X35: FALSE | Y35: FALSE | Z35: FALSE
B36: PART - 5 HYDRAULIC SYSTEM
B37: 1 | C37: Check PTO shaft for tightness and lubrication | T37: TRUE | U37: FALSE | V37: FALSE | X37: FALSE | Y37: FALSE | Z37: FALSE
B38: 2 | C38: Check reservoir levels | T38: TRUE | U38: FALSE | V38: FALSE | X38: FALSE | Y38: FALSE | Z38: FALSE
B39: 3 | C39: Check all hydraulic fittings for leaks and damage | T39: TRUE | U39: FALSE | V39: FALSE | X39: FALSE | Y39: FALSE | Z39: FALSE
B40: 4 | C40: Check gauges and pressures | T40: TRUE | U40: FALSE | V40: FALSE | X40: FALSE | Y40: FALSE | Z40: FALSE
B41: 5 | C41: Check for leaks | T41: TRUE | U41: FALSE | V41: FALSE | X41: FALSE | Y41: FALSE | Z41: FALSE
B42: 6 | C42: Listen for abnormal noises in sytem | T42: TRUE | U42: FALSE | V42: FALSE | X42: FALSE | Y42: FALSE | Z42: FALSE
...

Sheet Pre-Raise Mast Inspection
C1: Pre-Raise Mast Inspetion
B3: PART - 1 JOB INFO | G3: Client | J3: ='Start Page'!G7 -> Cenovus Energy Inc | O3: Unit # | S3: ='Start Page'!G15 -> 1200 | X3: Date | AB3: ='Start Page'!G5 -> 46218
G4: On-Site Rep | J4: ='Start Page'!G12 -> Scott King | O4: Surface location | S4: ='Start Page'!G9 -> 11-12-077-05W4 | X4: 24hr Operations | AC4: Y | AD4: TRUE | AE4: N | AF4: FALSE
G5: Operation | J5: ='Start Page'!G31 -> Ranging | O5: Day Supervisor | S5: ='Start Page'!G22 -> Mitchell Blomgren | X5: Night Supervisor | AB5: ='Start Page'!K22 -> Tyson Orr
G6: Wind Speed | L6: km/h | M6: Wind Direction | S6: Weather | Y6: Temperature | AD6: ℃
B13: PART - 2 PRE-RAISE INSPECTION | Y13: OK | AA13: NO | AC13: ATTN | AE13: INITIALS
B14: 1 | C14: Ensure CTU is spotted correct distance from well center | Y14: TRUE | AA14: FALSE | AC14: FALSE
B15: 2 | C15: Is ground stable? Ay need rig / swamp matting | Y15: TRUE | AA15: FALSE | AC15: FALSE
B16: 3 | C16: Pads are put and in postion | Y16: TRUE | AA16: FALSE | AC16: FALSE
B17: 4 | C17: Rig is level side to side and front to back | Y17: TRUE | AA17: FALSE | AC17: FALSE
B18: 5 | C18: Locks are instaled on jacks | Y18: TRUE | AA18: FALSE | AC18: FALSE
B19: 6 | C19: Skate / Chain tension match cab / injector | Y19: TRUE | AA19: FALSE | AC19: FALSE
B20: 7 | C20: Visual inspection of injetor chains | Y20: TRUE | AA20: FALSE | AC20: FALSE
B21: 8 | C21: Visual inpsection ofn arch and arch rollers | Y21: TRUE | AA21: FALSE | AC21: FALSE
B22: 9 | C22: Visualy inpsect mast rams ans pins | Y22: TRUE | AA22: FALSE | AC22: FALSE
B23: 10 | C23: Visualy inspect sheaves | Y23: TRUE | AA23: FALSE | AC23: FALSE
B24: 11 | C24: Check carriage winch line | Y24: TRUE | AA24: FALSE | AC24: FALSE
B25: 12 | C25: Greased? | Y25: TRUE | AA25: FALSE | AC25: FALSE
... B32: 19 | C32: Becon on top of mast work and on | Y32: TRUE | AA32: FALSE | AC32: FALSE
B36: PART - 3 COMMENTS
B37: Night S
C50: SUPERVISOR | H50: ='Start Page'!G22 -> Mitchell Blomgren | N50: SIGNATURE | Y50: DATE | AB50: ='Start Page'!G5 -> 46218

Sheet Boom Truck Inspection
A1: Daily Boom Truck Insection
A4: Part - 1 Info | E4: Unit | O4: Date
E5: Location
A7: Operator must visually inspect the mobile crane daily in accordance with subsection 4.3.3 of the regulations.
K9: If other operators use the crane on this given day, they must indicate by signing that all the above items have been inspected.
A11: Part -2 Visual Inspection | K11: Operator 1 | Q11: Operator 2 | W11: Operator 3
K12: OK | M12: FAIL | O12: N/A | Q12: OK | S12: FAIL | U12: N/A | W12: OK | Y12: FAIL | AA12: N/A
A13: Operating controls | K13: TRUE | M13: FALSE | O13: FALSE | Q13: FALSE | S13: FALSE | U13: FALSE | W13: FALSE | Y13: FALSE | AA13: FALSE
A14: Boom Angle indicator | K14: TRUE | M14: FALSE | O14: FALSE | Q14: FALSE | S14: FALSE | U14: FALSE | W14: FALSE | Y14: FALSE | AA14: FALSE
A15: Load Charts | K15: TRUE | M15: FALSE | O15: FALSE | Q15: FALSE | S15: FALSE | U15: FALSE | W15: FALSE | Y15: FALSE | AA15: FALSE
A16: Level indicatot | K16: TRUE | M16: FALSE | O16: FALSE | Q16: FALSE | S16: FALSE | U16: FALSE | W16: FALSE | Y16: FALSE | AA16: FALSE
A17: Safety devices | K17: TRUE | M17: FALSE | O17: FALSE | Q17: FALSE | S17: FALSE | U17: FALSE | W17: FALSE | Y17: FALSE | AA17: FALSE
A18: Wire rope | K18: TRUE | M18: FALSE | O18: FALSE | Q18: FALSE | S18: FALSE | U18: FALSE | W18: FALSE | Y18: FALSE | AA18: FALSE
A19: Air/ hydraulic components | K19: TRUE | M19: FALSE | O19: FALSE | Q19: FALSE | S19: FALSE | U19: FALSE | W19: FALSE | Y19: FALSE | AA19: FALSE
A20: Electrical system | K20: TRUE | M20: FALSE | O20: FALSE | Q20: FALSE | S20: FALSE | U20: FALSE | W20: FALSE | Y20: FALSE | AA20: FALSE
A21: Hooks, bocks and swivels | K21: TRUE | M21: FALSE | O21: FALSE | Q21: FALSE | S21: FALSE | U21: FALSE | W21: FALSE | Y21: FALSE | AA21: FALSE
A22: Clutches, breaks and locks | K22: TRUE | M22: FALSE | O22: FALSE | Q22: FALSE | S22: FALSE | U22: FALSE | W22: FALSE | Y22: FALSE | AA22: FALSE
A23: Outriggers | K23: TRUE | M23: FALSE | O23: FALSE | Q23: FALSE | S23: FALSE | U23: FALSE | W23: FALSE | Y23: FALSE | AA23: FALSE
A24: Fluid levels | K24: TRUE | M24: FALSE | O24: FALSE | Q24: FALSE | S24: FALSE | U24: FALSE | W24: FALSE | Y24: FALSE | AA24: FALSE
... A27: Turntable | K27: TRUE | M27: FALSE | O27: FALSE | Q27: FALSE | S27: FALSE | U27: FALSE | W27: FALSE | Y27: FALSE | AA27: FALSE
E28: Operator Name
E29: Operator Signature
A31: Comments

Sheet BOP Pressure Test 
C1: BOP Pressure Test / Accumulator Function
B3: JOB INFO | G3: Client | J3: ='Start Page'!G7 -> Cenovus Energy Inc | O3: Unit # | T3: ='Start Page'!G15 -> 1200 | Y3: Date | AC3: ='Start Page'!G5 -> 46218
G4: On-Site Rep | J4: ='Start Page'!G12 -> Scott King | O4: Surface location | T4: ='Start Page'!G9 -> 11-12-077-05W4 | Y4: Well Class
G5: Operation | J5: ='Start Page'!G31 -> Ranging | O5: Supervisor | Y5: WELL TYPE
B7: Pre-Charge Pressure | R7: BOP Info
B8: Bottle 1 | G8: Bottle 2 | L8: Bottle 3 | R8: BOP Type | U8: S/N# | X8: Size | AA8: Pressue | AD8: Connection
F9: ㎪ | K9: ㎪ | P9: ㎪
B10: Average Pre-Charge | K10: ㎪ | L10: Bottle Size | P10: ltr
B11: Accumulator Starting Pressure Before Test | P11: ㎪
B12: Nitrogin Back- Up Pressure | P12: ㎪
B13: Charge Pump Rebuild Time | N13: min | P13: sec | AA13: RAM 1
B14: Accumulator After 3 Functions | P14: ㎪
AA15: RAM 2
B16: Closing Times
B17: Ram 1 | AA17: RAM 3
G18: Closing Time | L18: Pressure Remaning
I19: min | K19: sec | P19: ㎪ | AA19: RAM 4
B21: Ram 2
B22: 2.375" Pipe / Slip | G22: Closing Time | L22: Pressure Remaning | R22: Body
I23: min | K23: sec | P23: ㎪ | U23: Low | X23: High | AA23: Test Fluid | AD23: Ram Size
W24: ㎪ | Z24: ㎪
B25: Ram 3 | W25: min | Z25: min
B26: Blind Sheer (open) | G26: Closing Time | L26: Pressure Remaning | R26: Ram 1
I27: min | K27: sec | P27: ㎪ | U27: Low | X27: High | AA27: Test Fluid | AD27: Ram Size
U28: 1400 | W28: ㎪ | X28: 21000 | Z28: ㎪
B29: Ram 4 | U29: 10 | W29: min | X29: 10 | Z29: min
B30: N/A | G30: Closing Time | L30: Pressure Remaning | R30: Ram 2
I31: min | K31: sec | P31: ㎪ | U31: Low | X31: High | AA31: Test Fluid | AD31: Ram Size
U32: 1400 | W32: ㎪ | X32: 21000 | Z32: ㎪
B33: Annular | U33: 10 | W33: min | X33: 10 | Z33: min
B34: N/A | G34: Closing Time | L34: Pressure Remaning | R34: Ram 3
I35: min | K35: sec | P35: ㎪ | U35: Low | X35: High | AA35: Test Fluid | AD35: Ram Size
W36: ㎪ | Z36: ㎪
B37: Comments | W37: min | Z37: min
R38: Ram 4
U39: Low | X39: High | AA39: Test Fluid | AD39: Ram Size
W40: ㎪ | Z40: ㎪
W41: min | Z41: min
R42: Annular
U43: Low | X43: High | AA43: Test Fluid | AD43: Ram Size
...

Sheet Tool Box Inventory
C1: Tool Box Inventory
B3: PART - 1 JOB INFO | G3: Client | J3: ='Start Page'!G7 -> Cenovus Energy Inc | O3: Unit # | S3: ='Start Page'!G15 -> 1200 | X3: Date | AB3: ='Start Page'!G5 -> 46218
G4: On-Site Rep | J4: ='Start Page'!G12 -> Scott King | O4: Surface location | S4: ='Start Page'!G9 -> 11-12-077-05W4 | X4: 24hr Operations | AB4: Y | AC4: FALSE | AD4: N | AE4: FALSE
G5: Operation | J5: ='Start Page'!G31 -> Ranging | O5: Supervisor | X5: Operator
B7: Flat Wrenches x2 | H7: Main Tool Box
B9: 0.375 | D9: FALSE | E9: 0.375 | G9: FALSE | H9: Steel 36" Pipe Wrench | M9: FALSE | N9: Tape Measure Metric | S9: FALSE | T9: Bowen O-Rings | Y9: FALSE | Z9: Grease Gun | AE9: FALSE
B10: 0.4375 | D10: FALSE | E10: 0.4375 | G10: FALSE | H10: Steel 36" Pipe Wrench | M10: FALSE | N10: Hack Saw | S10: FALSE | T10: Injector Chain parts | Y10: FALSE | Z10: High Press Grease Gun | AE10: FALSE
B11: 0.5 | D11: FALSE | E11: 0.5 | G11: FALSE | H11: Aluminum 36" Pipe Wrench | M11: FALSE | N11: 3/8 Socket Set | S11: FALSE | T11: Injector Chain Bolts 3/8 | Y11: FALSE | Z11: Blue Lock Tight | AE11: FALSE
B12: 0.5625 | D12: FALSE | E12: 0.5625 | G12: FALSE | H12: Aluminum 36" Pipe Wrench | M12: FALSE | N12: 1/2 Socket Set | S12: FALSE | T12: Assort Nuts & Bolts | Y12: FALSE | Z12: Liquid Thread Tape | AE12: FALSE
B13: 0.625 | D13: FALSE | E13: 0.625 | G13: FALSE | H13: 24" Pipe Wrench | M13: FALSE | N13: 4" Pipe Cutter | S13: FALSE | T13: Assort Hyd Fittings | Y13: FALSE | Z13: Paint Pens | AE13: FALSE
B14: 0.6875 | D14: FALSE | E14: 0.6875 | G14: FALSE | H14: 24" Pipe Wrench | M14: FALSE | N14: 4" Pipe Roller | S14: FALSE | T14: Assort Pressure Gauges | Y14: FALSE | Z14: Emery Cloth | AE14: FALSE
B15: 0.75 | D15: FALSE | E15: 0.75 | G15: FALSE | H15: 48" Pipe Wrench | M15: FALSE | N15: 2" Pipe Cutter | S15: FALSE | T15: O-Ring Kit | Y15: FALSE | Z15: Electrical Kit | AE15: FALSE
B16: 0.8125 | D16: FALSE | E16: 0.8125 | G16: FALSE | H16: 4lb Hammer | M16: FALSE | N16: 2" Pipe Roller | S16: FALSE | T16: Grease Nipples | Y16: FALSE | Z16: Assorted Parts
B17: 0.875 | D17: FALSE | E17: 0.875 | G17: FALSE | H17: 4lb Hammer | M17: FALSE | N17: SAE Allan Keys | S17: FALSE | T17: Cotter Pin Kit | Y17: FALSE
B18: 0.9375 | D18: FALSE | E18: 0.9375 | G18: FALSE | H18: Ball Pean Hammer | M18: FALSE | N18: Metric Allan Keys | S18: FALSE | T18: Wire Brushes | Y18: FALSE | Z18: RTJ Seals DXXX | AE18: FALSE
B19: 1 | D19: FALSE | E19: 1 | G19: FALSE | H19: Sledge Hammer | M19: FALSE | N19: Socket to Allan Key | S19: FALSE | T19: Level Wind Knife | Y19: FALSE | Z19: Arch Rollers | AE19: FALSE
B20: 1.0625 | D20: FALSE | E20: 1.0625 | G20: FALSE | H20: Dead Blow Hammer | M20: FALSE | N20: Screw Drivers | S20: FALSE | T20: Air Chuck | Y20: FALSE | Z20: Stripper Elements | AE20: FALSE
B21: 1.125 | D21: FALSE | E21: 1.125 | G21: FALSE | H21: Pin Bars | M21: FALSE | N21: Punches | S21: FALSE | T21: Tire Pressure Gauge | Y21: FALSE | Z21: Stripper Seals | AE21: FALSE
B22: 1.1875 | D22: FALSE | E22: 1.1875 | G22: FALSE | H22: Valve Bar | M22: FALSE | N22: Files | S22: FALSE | T22: Spare Air Chuck Fittings | Y22: FALSE | Z22: Injector Carriers | AE22: FALSE
B23: 1.4375 | D23: FALSE | E23: 1.4375 | G23: FALSE | H23: Valve Bar | M23: FALSE | N23: Drill Bits | S23: FALSE | T23: Air Line Kit | Y23: FALSE | Z23: Injector Block | AE23: FALSE
B24: 1.5 | D24: FALSE | E24: 1.5 | G24: FALSE | H24: Bowen Wrench | M24: FALSE | N24: Easy Outs | S24: FALSE | T24: Caution Tape | Y24: FALSE | Z24: Shepards Pins | AE24: FALSE
B25: 1.5625 | D25: FALSE | E25: 1.5625 | G25: FALSE | H25: 3/8 Torque Wrench | M25: FALSE | N25: 2" Cutting Wheels | S25: FALSE | T25: Danger Tape | Y25: FALSE | Z25: Striper Brass | AE25: FALSE
B26: 1.625 | D26: FALSE | E26: 1.625 | G26: FALSE | H26: Needle Nose Pliers | M26: FALSE | N26: 2" Roller Wheels | S26: FALSE | T26: Flag Tape | Y26: FALSE | Z26: 1502 / 602 Rubbers | AE26: FALSE
B27: 1.6875 | D27: FALSE | E27: 1.6875 | G27: FALSE | H27: Channel Lock Pliers | M27: FALSE | N27: 2" Roller pins | S27: FALSE | T27: Electrical Tape | Y27: FALSE | Z27: Tow Sling | AE27: FALSE
B28: 1.75 | D28: FALSE | E28: 1.75 | G28: FALSE | H28: Linesmen Pliers | M28: FALSE | N28: 4" Cutter Wheels | S28: FALSE | T28: Zip Ties | Y28: FALSE | Z28: Oil Filter | AE28: FALSE
B29: 1.8125 | D29: FALSE | E29: 1.8125 | G29: FALSE | H29: Side Cutters | M29: FALSE | N29: 4" Roller Wheels | S29: FALSE | T29: Thread Tape | Y29: FALSE | Z29: Fuel Filter | AE29: FALSE
... B31: 1.9375 | D31: FALSE | E31: 1.9375 | G31: FALSE | H31: Vice Grips | M31: FALSE | N31: O-Ring Picks | S31: FALSE | T31: Spare Die Grinder Bits | Y31: FALSE | Z31: Extrusion Rings | AE31: FALSE
B32: 2 | D32: FALSE | E32: 2 | G32: FALSE | H32: Chain Vise Grips | M32: FALSE | N32: Auto Retracting Knife | S32: FALSE | T32: Die Grinder | Y32: FALSE
B33: 2.1875 | D33: FALSE | E33: 2.1875 | G33: FALSE | H33: Wire Stripper | M33: FALSE | N33: Flash Light | S33: FALSE | T33: Grease Nipples | Y33: FALSE
B34: Consumables
B36: Braklean | G36: FALSE | H36: Copper Cote | M36: FALSE | N36: Nickle Cote | S36: FALSE | T36: Coolant 50/50 | Y36: FALSE | Z36: Hydraulic Oil 32W | AE36: FALSE
B37: 3in1 | G37: FALSE | H37: Electrical Cleaner | M37: FALSE | N37: Citrol | S37: FALSE | T37: ATF | Y37: FALSE | Z37: Grease | AE37: FALSE
